BEGIN:VCALENDAR
VERSION:2.0
PRODID:-//Millen Primary School - ECPv6.15.14//NONSGML v1.0//EN
CALSCALE:GREGORIAN
METHOD:PUBLISH
X-WR-CALNAME:Millen Primary School
X-ORIGINAL-URL:https://millenps.wa.edu.au
X-WR-CALDESC:Events for Millen Primary School
REFRESH-INTERVAL;VALUE=DURATION:PT1H
X-Robots-Tag:noindex
X-PUBLISHED-TTL:PT1H
BEGIN:VTIMEZONE
TZID:Australia/Perth
BEGIN:STANDARD
TZOFFSETFROM:+0800
TZOFFSETTO:+0800
TZNAME:AWST
DTSTART:20250101T000000
END:STANDARD
END:VTIMEZONE
BEGIN:VEVENT
DTSTART;TZID=Australia/Perth:20260925T083500
DTEND;TZID=Australia/Perth:20260925T091500
DTSTAMP:20260425T193957
CREATED:20260211T063449Z
LAST-MODIFIED:20260211T063449Z
UID:7928-1790325300-1790327700@millenps.wa.edu.au
SUMMARY:Millen PS Book Week Parade
DESCRIPTION:
URL:https://millenps.wa.edu.au/event/millen-ps-book-week-parade-2/
LOCATION:Millen PS Quadrangle
CATEGORIES:School Events
END:VEVENT
END:VCALENDAR