BEGIN:VCALENDAR
VERSION:2.0
PRODID:-//Millen Primary School - ECPv6.15.14//NONSGML v1.0//EN
CALSCALE:GREGORIAN
METHOD:PUBLISH
X-WR-CALNAME:Millen Primary School
X-ORIGINAL-URL:https://millenps.wa.edu.au
X-WR-CALDESC:Events for Millen Primary School
REFRESH-INTERVAL;VALUE=DURATION:PT1H
X-Robots-Tag:noindex
X-PUBLISHED-TTL:PT1H
BEGIN:VTIMEZONE
TZID:Australia/Perth
BEGIN:STANDARD
TZOFFSETFROM:+0800
TZOFFSETTO:+0800
TZNAME:AWST
DTSTART:20240101T000000
END:STANDARD
END:VTIMEZONE
BEGIN:VEVENT
DTSTART;TZID=Australia/Perth:20250624T140000
DTEND;TZID=Australia/Perth:20250624T144500
DTSTAMP:20260425T211800
CREATED:20250513T003724Z
LAST-MODIFIED:20250513T003830Z
UID:7502-1750773600-1750776300@millenps.wa.edu.au
SUMMARY:Family afternoon - Kindy Yonga
DESCRIPTION:Kindergarten invites family members to an afternoon event to celebrate our families. We will take part in a craft activity together and have afternoon tea. \nPlease speak to the class teacher if you have any questions.
URL:https://millenps.wa.edu.au/event/family-afternoon-kindy-yonga/
LOCATION:Room 1
CATEGORIES:School Events
END:VEVENT
BEGIN:VEVENT
DTSTART;VALUE=DATE:20250620
DTEND;VALUE=DATE:20250621
DTSTAMP:20260425T211800
CREATED:20250429T072629Z
LAST-MODIFIED:20250429T072629Z
UID:7476-1750377600-1750463999@millenps.wa.edu.au
SUMMARY:Crazy Hair Day - Fundraiser for Year 6 Graduation
DESCRIPTION:Donate a gold coin and take part in Crazy Hair Day to help raise funds for our Year 6 graduation
URL:https://millenps.wa.edu.au/event/crazy-hair-day-fundraiser-for-year-6-graduation/
LOCATION:Room 1
CATEGORIES:School Events
END:VEVENT
BEGIN:VEVENT
DTSTART;TZID=Australia/Perth:20250603T083000
DTEND;TZID=Australia/Perth:20250604T150000
DTSTAMP:20260425T211800
CREATED:20250211T051134Z
LAST-MODIFIED:20250211T051134Z
UID:7164-1748939400-1749049200@millenps.wa.edu.au
SUMMARY:3P Photography - School Photos
DESCRIPTION:The class schedule for school/sibling photos will be advised via CONNECT.
URL:https://millenps.wa.edu.au/event/3p-photography-school-photos/
LOCATION:Millen PS Undercover Area
CATEGORIES:School Events
END:VEVENT
BEGIN:VEVENT
DTSTART;TZID=Australia/Perth:20250522T150000
DTEND;TZID=Australia/Perth:20250522T160000
DTSTAMP:20260425T211800
CREATED:20250227T032811Z
LAST-MODIFIED:20250515T021224Z
UID:7343-1747926000-1747929600@millenps.wa.edu.au
SUMMARY:School Board Meeting
DESCRIPTION:
URL:https://millenps.wa.edu.au/event/school-board-meeting-2/
LOCATION:Room 1
CATEGORIES:School Events
END:VEVENT
BEGIN:VEVENT
DTSTART;VALUE=DATE:20250516
DTEND;VALUE=DATE:20250517
DTSTAMP:20260425T211800
CREATED:20250429T072157Z
LAST-MODIFIED:20250429T072157Z
UID:7472-1747353600-1747439999@millenps.wa.edu.au
SUMMARY:Dress in your Favourite Sports Gear - Fundraiser for Year 6 Graduation
DESCRIPTION:Donate a gold coin and dress in your favourite sports gear to help raise funds for our Year 6 graduation \n 
URL:https://millenps.wa.edu.au/event/dress-in-your-favourite-sports-gear-fundraiser-for-year-6-graduation/
LOCATION:Room 1
CATEGORIES:School Events
END:VEVENT
BEGIN:VEVENT
DTSTART;VALUE=DATE:20250509
DTEND;VALUE=DATE:20250510
DTSTAMP:20260425T211800
CREATED:20250501T014407Z
LAST-MODIFIED:20250501T014407Z
UID:7485-1746748800-1746835199@millenps.wa.edu.au
SUMMARY:Do It For Dolly Day 2025
DESCRIPTION:The Millen community is choosing to go BLUE to recognise ‘Do it for Dolly Day’ to take a stand against bullying \nalongside thousands of Australians and spread community awareness and encourage kindness. \nChildren can wear something blue and donate a gold coin. \nFunds raised go towards anti-bullying programs.
URL:https://millenps.wa.edu.au/event/do-it-for-dolly-day-2025/
LOCATION:Room 1
CATEGORIES:School Events
END:VEVENT
BEGIN:VEVENT
DTSTART;TZID=Australia/Perth:20250508T083000
DTEND;TZID=Australia/Perth:20250509T153000
DTSTAMP:20260425T211800
CREATED:20250507T035650Z
LAST-MODIFIED:20250507T035650Z
UID:7496-1746693000-1746804600@millenps.wa.edu.au
SUMMARY:P&C Mother's Day Stall
DESCRIPTION:The annual Millen P&C Mother’s Day stall will be open to all children over two days.  Please see CONNECT notice or speak to your classroom teacher for the classroom schedule. \nItems range in price from 50c to $10.  Children will be limited to two gifts.
URL:https://millenps.wa.edu.au/event/pc-mothers-day-stall/
LOCATION:Millen PS Library
CATEGORIES:P&C,School Events
END:VEVENT
BEGIN:VEVENT
DTSTART;TZID=Australia/Perth:20250411T083000
DTEND;TZID=Australia/Perth:20250411T090000
DTSTAMP:20260425T211800
CREATED:20250209T005529Z
LAST-MODIFIED:20250217T013050Z
UID:7075-1744360200-1744362000@millenps.wa.edu.au
SUMMARY:Millen PS Easter Hat Parade
DESCRIPTION:
URL:https://millenps.wa.edu.au/event/millen-ps-easter-hat-parade/
LOCATION:Millen PS Quadrangle
CATEGORIES:School Events
END:VEVENT
BEGIN:VEVENT
DTSTART;TZID=Australia/Perth:20250409T083500
DTEND;TZID=Australia/Perth:20250409T091500
DTSTAMP:20260425T211800
CREATED:20250209T005032Z
LAST-MODIFIED:20250209T005032Z
UID:7072-1744187700-1744190100@millenps.wa.edu.au
SUMMARY:Millen PS ANZAC Ceremony
DESCRIPTION:more details to come
URL:https://millenps.wa.edu.au/event/millen-ps-anzac-ceremony/
LOCATION:Millen PS Quadrangle
CATEGORIES:School Events
END:VEVENT
BEGIN:VEVENT
DTSTART;VALUE=DATE:20250319
DTEND;VALUE=DATE:20250320
DTSTAMP:20260425T211800
CREATED:20250304T022559Z
LAST-MODIFIED:20250304T022559Z
UID:7363-1742342400-1742428799@millenps.wa.edu.au
SUMMARY:Scholastic Book Club orders close
DESCRIPTION:
URL:https://millenps.wa.edu.au/event/scholastic-book-club-orders-close-2/
LOCATION:Room 1
CATEGORIES:School Events
END:VEVENT
BEGIN:VEVENT
DTSTART;TZID=Australia/Perth:20250313T150000
DTEND;TZID=Australia/Perth:20250313T160000
DTSTAMP:20260425T211800
CREATED:20250219T040505Z
LAST-MODIFIED:20250219T040505Z
UID:7306-1741878000-1741881600@millenps.wa.edu.au
SUMMARY:School Board Meeting
DESCRIPTION:
URL:https://millenps.wa.edu.au/event/school-board-meeting/
LOCATION:Room 1
CATEGORIES:School Events
END:VEVENT
BEGIN:VEVENT
DTSTART;VALUE=DATE:20250308
DTEND;VALUE=DATE:20250309
DTSTAMP:20260425T211800
CREATED:20250211T052937Z
LAST-MODIFIED:20250211T052937Z
UID:7170-1741392000-1741478399@millenps.wa.edu.au
SUMMARY:WA State Election - POLLING PLACE
DESCRIPTION:
URL:https://millenps.wa.edu.au/event/wa-state-election-polling-place/
LOCATION:Millen PS Undercover Area
CATEGORIES:School Events
END:VEVENT
BEGIN:VEVENT
DTSTART;TZID=Australia/Perth:20250307T084500
DTEND;TZID=Australia/Perth:20250307T123000
DTSTAMP:20260425T211800
CREATED:20250226T003100Z
LAST-MODIFIED:20250226T003100Z
UID:7338-1741337100-1741350600@millenps.wa.edu.au
SUMMARY:The Literature Centre - Writing Workshop Incursion for Year 5 Students
DESCRIPTION:The Literature Centre will be conducting a visual literacy workshop before commencing a writing workshop with students.  The purpose of this workshop is to ignite creative ideas and to develop students’ ability to provide more detail in their writing enhancing their ability to “show” the readers what they want to say. \nPlease see the CONNECT notice for more details.
URL:https://millenps.wa.edu.au/event/the-literature-centre-writing-workshop-incursion-for-year-5-students/
LOCATION:Room 1
CATEGORIES:School Events
END:VEVENT
END:VCALENDAR